BEGIN:VCALENDAR
VERSION:2.0
PRODID:spatie/icalendar-generator
DESCRIPTION:Veranstaltungen von TV Hindelbank
X-WR-CALDESC:Veranstaltungen von TV Hindelbank
REFRESH-INTERVAL;VALUE=DURATION:PT1440M
X-PUBLISHED-TTL:PT1440M
BEGIN:VTIMEZONE
TZID:Etc/GMT+0
BEGIN:STANDARD
DTSTART:20230203T190000Z
TZOFFSETFROM:+0000
TZOFFSETTO:+0000
END:STANDARD
END:VTIMEZONE
BEGIN:VTIMEZONE
TZID:UTC
BEGIN:STANDARD
DTSTART:20250727T060456Z
TZOFFSETFROM:+0000
TZOFFSETTO:+0000
END:STANDARD
END:VTIMEZONE
BEGIN:VEVENT
UID:12-10
DTSTAMP:20260423T060456Z
SUMMARY:Smovey
LOCATION:
ORGANIZER;CN=Monika Gruber:MAILTO:jmgruber@bluewin.ch
RRULE:FREQ=WEEKLY;UNTIL=20231114T000000Z
DTSTART;TZID=Etc/GMT+0:20231031T190000
DTEND;TZID=Etc/GMT+0:20231031T200000
X-ALT-DESC;FMTTYPE=TEXT/HTML:
CATEGORIES:General
URL;VALUE=URI:https://www.tvhindelbank.ch/mc-events/smovey-2/?mc_id=12
METHOD:PUBLISH
END:VEVENT
END:VCALENDAR