BEGIN:VCALENDAR
VERSION:2.0
PRODID:spatie/icalendar-generator
DESCRIPTION:Veranstaltungen von TV Hindelbank
X-WR-CALDESC:Veranstaltungen von TV Hindelbank
REFRESH-INTERVAL;VALUE=DURATION:PT1440M
X-PUBLISHED-TTL:PT1440M
BEGIN:VTIMEZONE
TZID:Etc/GMT+0
BEGIN:STANDARD
DTSTART:20240702T170000Z
TZOFFSETFROM:+0000
TZOFFSETTO:+0000
END:STANDARD
END:VTIMEZONE
BEGIN:VTIMEZONE
TZID:UTC
BEGIN:STANDARD
DTSTART:20250723T174007Z
TZOFFSETFROM:+0000
TZOFFSETTO:+0000
END:STANDARD
END:VTIMEZONE
BEGIN:VEVENT
UID:39-36
DTSTAMP:20260419T174007Z
SUMMARY:Spaghetti-Chiubi
LOCATION:
ORGANIZER;CN=Monika Gruber:MAILTO:jmgruber@bluewin.ch
DTSTART;TZID=Etc/GMT+0:20250329T170000
DTEND;TZID=Etc/GMT+0:20250329T180000
X-ALT-DESC;FMTTYPE=TEXT/HTML:
CATEGORIES:General
URL;VALUE=URI:https://www.tvhindelbank.ch/mc-events/spaghetti-chiubi-2/
METHOD:PUBLISH
END:VEVENT
END:VCALENDAR