BEGIN:VCALENDAR
VERSION:2.0
PRODID:spatie/icalendar-generator
DESCRIPTION:Veranstaltungen von TV Hindelbank
X-WR-CALDESC:Veranstaltungen von TV Hindelbank
REFRESH-INTERVAL;VALUE=DURATION:PT1440M
X-PUBLISHED-TTL:PT1440M
BEGIN:VTIMEZONE
TZID:Etc/GMT+0
BEGIN:STANDARD
DTSTART:20230409T000000Z
TZOFFSETFROM:+0000
TZOFFSETTO:+0000
END:STANDARD
END:VTIMEZONE
BEGIN:VTIMEZONE
TZID:UTC
BEGIN:STANDARD
DTSTART:20250726T223400Z
TZOFFSETFROM:+0000
TZOFFSETTO:+0000
END:STANDARD
END:VTIMEZONE
BEGIN:VEVENT
UID:6-6
DTSTAMP:20260422T223400Z
SUMMARY:Sporttage Goms
LOCATION:
ORGANIZER;CN=Monika Gruber:MAILTO:jmgruber@bluewin.ch
DTSTART;TZID=Etc/GMT+0;VALUE=DATE:20240104
DTEND;TZID=Etc/GMT+0;VALUE=DATE:20240108
X-ALT-DESC;FMTTYPE=TEXT/HTML:
CATEGORIES:General
URL;VALUE=URI:https://www.tvhindelbank.ch/mc-events/sporttage-goms/
METHOD:PUBLISH
END:VEVENT
END:VCALENDAR